BEGIN:VCALENDAR
VERSION:2.0
PRODID:-// - ECPv6.11.2.1//NONSGML v1.0//EN
CALSCALE:GREGORIAN
METHOD:PUBLISH
X-ORIGINAL-URL:https://jcfamilies.com
X-WR-CALDESC:Events for 
REFRESH-INTERVAL;VALUE=DURATION:PT1H
X-Robots-Tag:noindex
X-PUBLISHED-TTL:PT1H
BEGIN:VTIMEZONE
TZID:America/New_York
BEGIN:DAYLIGHT
TZOFFSETFROM:-0500
TZOFFSETTO:-0400
TZNAME:EDT
DTSTART:20200308T070000
END:DAYLIGHT
BEGIN:STANDARD
TZOFFSETFROM:-0400
TZOFFSETTO:-0500
TZNAME:EST
DTSTART:20201101T060000
END:STANDARD
END:VTIMEZONE
BEGIN:VEVENT
DTSTART;TZID=America/New_York:20200620T090000
DTEND;TZID=America/New_York:20200828T130000
DTSTAMP:20260425T232654
CREATED:20200721T163339Z
LAST-MODIFIED:20200721T163339Z
UID:71717-1592643600-1598619600@jcfamilies.com
SUMMARY:Nimbus Dance Summer Arts
DESCRIPTION:Nimbus Dance Summer Arts \n\nSpend a fun-filled summer with Nimbus Dance Works — dance\, singing\, acting\, and visual arts at JC SummerArts! Each week culminates with a performance based on an exciting theme. Students will learn from our exceptional\, professional teachers\, gain performance experience\, make new friends\, and have a ton of fun!\n\n\n\nAges: 4-7 & 7-11years\nDates: July 20-August 28\nLocation: Online; Internet/Device required\nTime: 9am – 1pm\nPricing: $240/week (until 7/6); $300/week (after 7/6); $1620 full 6 weeks\n\nScholarships available. For more information\, please e-mail school@nimbusdanceworks.org.\n\nFor Registration\, Information and Description of Weekly Themes: Click Here 
URL:https://jcfamilies.com/event/nimbus-dance-summer-arts/
LOCATION:Online Via Zoom
END:VEVENT
END:VCALENDAR