BEGIN:VCALENDAR
VERSION:2.0
PRODID:-// - ECPv6.11.2.1//NONSGML v1.0//EN
CALSCALE:GREGORIAN
METHOD:PUBLISH
X-ORIGINAL-URL:https://jcfamilies.com
X-WR-CALDESC:Events for 
REFRESH-INTERVAL;VALUE=DURATION:PT1H
X-Robots-Tag:noindex
X-PUBLISHED-TTL:PT1H
BEGIN:VTIMEZONE
TZID:America/New_York
BEGIN:DAYLIGHT
TZOFFSETFROM:-0500
TZOFFSETTO:-0400
TZNAME:EDT
DTSTART:20200308T070000
END:DAYLIGHT
BEGIN:STANDARD
TZOFFSETFROM:-0400
TZOFFSETTO:-0500
TZNAME:EST
DTSTART:20201101T060000
END:STANDARD
END:VTIMEZONE
BEGIN:VEVENT
DTSTART;TZID=America/New_York:20200917T180000
DTEND;TZID=America/New_York:20200917T220000
DTSTAMP:20260420T005105
CREATED:20200504T174418Z
LAST-MODIFIED:20200818T184104Z
UID:70709-1600365600-1600380000@jcfamilies.com
SUMMARY:Autism Acceptance Special Event sponsored by Colors of Autism NJ
DESCRIPTION:Autism Acceptance Special Event sponsored by Colors of Autism NJ\n  \nThe Autism Acceptance Special Event\, sponsored by Colors of Autism NJ\, Smile Preschool and Nursery/ Sherry Singh and JCFamilies returns this year on September 17th\, 2020\, from 6-10 PM on First Street in Jersey City! \n\nEnjoy a wonderful evening under a tent with passed Hors d’oeuvres\, drinks\, dancing\, raffles\, music from a DJ AND social distancing while supporting a great cause! \n\nYou can purchase your tickets here:\nhttps://www.eventbrite.com/e/88859558331
URL:https://jcfamilies.com/event/autism-acceptance-special-event-sponsored-by-colors-of-autism-nj/
LOCATION:First Street\, Jersey City\, Jersey City
END:VEVENT
END:VCALENDAR