BEGIN:VCALENDAR
VERSION:2.0
PRODID:-// - ECPv6.11.2.1//NONSGML v1.0//EN
CALSCALE:GREGORIAN
METHOD:PUBLISH
X-ORIGINAL-URL:https://jcfamilies.com
X-WR-CALDESC:Events for 
REFRESH-INTERVAL;VALUE=DURATION:PT1H
X-Robots-Tag:noindex
X-PUBLISHED-TTL:PT1H
BEGIN:VTIMEZONE
TZID:America/New_York
BEGIN:DAYLIGHT
TZOFFSETFROM:-0500
TZOFFSETTO:-0400
TZNAME:EDT
DTSTART:20210314T070000
END:DAYLIGHT
BEGIN:STANDARD
TZOFFSETFROM:-0400
TZOFFSETTO:-0500
TZNAME:EST
DTSTART:20211107T060000
END:STANDARD
END:VTIMEZONE
BEGIN:VEVENT
DTSTART;TZID=America/New_York:20210612T130000
DTEND;TZID=America/New_York:20210612T160000
DTSTAMP:20260420T003455
CREATED:20210603T171335Z
LAST-MODIFIED:20210610T180002Z
UID:76853-1623502800-1623513600@jcfamilies.com
SUMMARY:Summer Fun Saturday With JCFamilies And Nimbus; Youth Arts Talent Showcase
DESCRIPTION:Summer Fun Saturday With JCFamilies And Nimbus\nNimbus and JCFamilies are excited to bring you this summer fun Saturday event\, which is part of the Youth Arts Talent Showcase. \nThere will be family-oriented performances\, activities\, and Youth Arts Talent Showcase– in collaboration with Nimbus Arts Center and LUX Performing Arts. This will be fun for the whole family to enjoy – with exciting entertainment like a magic show\, arts and crafts\, food trucks\, vendors\, and more! See Jersey City’s talented youth performers in a showcase performance + special performances by the regionally recognized Nimbus Youth Ensemble. \nProceeds benefit the Nimbus Scholarship Fund\, making access to the dance and arts available to all Jersey City youth. Tickets here.  \nDate: Saturday\, June 12th\, 2021 \nTime: 1pm-4pm \nVenue: Harborside Campus: 107 Morgan St. Jersey City\, NJ 07302 \nActivities For The Event:\nMagic Show with Micky Magic at 1:45-2:35 pm \n \nArts & Crafts with Luna De Papel 12:30-3:30 pm \n \nPainting with Tiny Artisan 12:30-4 pm \n \nOther Activities:\nMusic by A Sound Start \nDance Class with Shayla \nTalent Shows(Junior and Senior) \nDance Performances \n  \nAbout the Nimbus Arts Festival: \nNimbus leads Jersey City and statewide audiences back to live performance with the first annual\, star-studded\, outdoor Nimbus Arts Festival\, presented on the Harborside Campus with lead sponsorship by Mack-Cali. With a lineup of nationally-renowned and locally-loved performing artists including Nimbus Dance\, Jersey City’s hometown dance company\, the New Jersey Symphony Orchestra\, co-presentations with Segunda Quimbamba Puerto Rican Folkloric Center\, Riverview Jazz Festival\, and Hudson West Folk Festival\, the Festival offers world-class arts in a laid-back and socially-distanced atmosphere\, complete with food trucks\, drink refreshments by CoolVines\, and artisan vendors. Seven entirely produced performances take place over five dates throughout the summer in Downtown Jersey City.
URL:https://jcfamilies.com/event/summer-fun-saturday-with-jcfamilies-and-nimbus/
LOCATION:107 Morgan Street Jersey City\, NJ 07302\, 107 Morgan Street\, Jersey City\, NJ\, 07302\, United States
ATTACH;FMTTYPE=image/png:https://jcfamilies.com/wp-content/uploads/2021/06/summerjc.png
END:VEVENT
END:VCALENDAR