BEGIN:VCALENDAR
VERSION:2.0
PRODID:-// - ECPv6.11.2.1//NONSGML v1.0//EN
CALSCALE:GREGORIAN
METHOD:PUBLISH
X-ORIGINAL-URL:https://jcfamilies.com
X-WR-CALDESC:Events for 
REFRESH-INTERVAL;VALUE=DURATION:PT1H
X-Robots-Tag:noindex
X-PUBLISHED-TTL:PT1H
BEGIN:VTIMEZONE
TZID:America/New_York
BEGIN:DAYLIGHT
TZOFFSETFROM:-0500
TZOFFSETTO:-0400
TZNAME:EDT
DTSTART:20240310T070000
END:DAYLIGHT
BEGIN:STANDARD
TZOFFSETFROM:-0400
TZOFFSETTO:-0500
TZNAME:EST
DTSTART:20241103T060000
END:STANDARD
END:VTIMEZONE
BEGIN:VEVENT
DTSTART;TZID=America/New_York:20241008T173000
DTEND;TZID=America/New_York:20241008T203000
DTSTAMP:20260425T084422
CREATED:20240923T193546Z
LAST-MODIFIED:20240923T194830Z
UID:100778-1728408600-1728419400@jcfamilies.com
SUMMARY:Hoboken Rooftop Reception
DESCRIPTION:Hoboken Rooftop Reception\nCocktails\, gourmet refreshments\, and music in a gorgeous venue all in support of the Hoboken Boys & Girls Club. \nThe Hoboken Club opened its doors 40 years ago and provides an exceptional experience encompassing academic enrichment\, physical and social recreation\, character and leadership\, STEAM learning\, and an array of other activities. Partnerships within the community have provided youth the opportunity to learn cooking\, rock-climbing\, and be mentored by corporate volunteers. \nDate: 10/8/2024 \nTime: 5:30pm – 8:30pm \nLocation: Antique Loft at Riverview
URL:https://jcfamilies.com/event/hoboken-rooftop-reception/
LOCATION:Antique Loft at Riverview\, Antique Loft at Riverview\, 33 Newark St.\, Hoboken\, NJ\, 07030\, United States
ATTACH;FMTTYPE=image/png:https://jcfamilies.com/wp-content/uploads/2024/09/HobokenRooftopReception.png
ORGANIZER;CN="Boys &amp%3B Girls Clubs of Hudson County":MAILTO:jwallach@bgchc.org
END:VEVENT
END:VCALENDAR