BEGIN:VCALENDAR
VERSION:2.0
PRODID:-// - ECPv6.11.2.1//NONSGML v1.0//EN
CALSCALE:GREGORIAN
METHOD:PUBLISH
X-ORIGINAL-URL:https://jcfamilies.com
X-WR-CALDESC:Events for 
REFRESH-INTERVAL;VALUE=DURATION:PT1H
X-Robots-Tag:noindex
X-PUBLISHED-TTL:PT1H
BEGIN:VTIMEZONE
TZID:America/New_York
BEGIN:DAYLIGHT
TZOFFSETFROM:-0500
TZOFFSETTO:-0400
TZNAME:EDT
DTSTART:20240310T070000
END:DAYLIGHT
BEGIN:STANDARD
TZOFFSETFROM:-0400
TZOFFSETTO:-0500
TZNAME:EST
DTSTART:20241103T060000
END:STANDARD
END:VTIMEZONE
BEGIN:VEVENT
DTSTART;TZID=America/New_York:20241024T090000
DTEND;TZID=America/New_York:20241025T180000
DTSTAMP:20260419T211429
CREATED:20240923T172219Z
LAST-MODIFIED:20240923T172219Z
UID:100735-1729760400-1729879200@jcfamilies.com
SUMMARY:JCPD North District Trunk or Treat
DESCRIPTION:The Jersey City Police Department\, North District\, will be ghosting a Trunk or Treat. We invite everyone to join us for a spooktacular event. This event will take place on Jefferson Avenue\, between Central Avenue & Summit Avenue. The event is scheduled from 6:00 pm to 8:00 pm. Free admission.
URL:https://jcfamilies.com/event/jcpd-north-district-trunk-or-treat/
LOCATION:Swift & Co.\, 220 9th St\,\, Jersey City\, 07302\, United States
ORGANIZER;CN="Jersey City Police Department- NORTH District":MAILTO:gicabalceta@gmail.com 
END:VEVENT
END:VCALENDAR