BEGIN:VCALENDAR
VERSION:2.0
PRODID:-// - ECPv6.11.2.1//NONSGML v1.0//EN
CALSCALE:GREGORIAN
METHOD:PUBLISH
X-ORIGINAL-URL:https://jcfamilies.com
X-WR-CALDESC:Events for 
REFRESH-INTERVAL;VALUE=DURATION:PT1H
X-Robots-Tag:noindex
X-PUBLISHED-TTL:PT1H
BEGIN:VTIMEZONE
TZID:America/New_York
BEGIN:DAYLIGHT
TZOFFSETFROM:-0500
TZOFFSETTO:-0400
TZNAME:EDT
DTSTART:20260308T070000
END:DAYLIGHT
BEGIN:STANDARD
TZOFFSETFROM:-0400
TZOFFSETTO:-0500
TZNAME:EST
DTSTART:20261101T060000
END:STANDARD
END:VTIMEZONE
BEGIN:VEVENT
DTSTART;TZID=America/New_York:20260208T090000
DTEND;TZID=America/New_York:20260208T103000
DTSTAMP:20260423T185407
CREATED:20231031T153117Z
LAST-MODIFIED:20260212T215449Z
UID:89823-1770541200-1770546600@jcfamilies.com
SUMMARY:Baby Super Bowl 2026
DESCRIPTION:JCFamilies & Jersey City Moms Present Baby Super Bowl 2026\nSuper Bowl season is almost here\, and we can’t forget our little champions. \nYeah\, you heard it right. Our city will have a baby Super Bowl Race championship\, and little ones will take home the trophy. Do not wait until the last minute to register your child for this super fun event\, where you will have some adorable moments watching your kids crawl or run like bunnies. Have your camera ready 🙂 \nHere’s their chance to win a title in this year’s Baby Super Bowl.  \nWe can’t wait to see you there! \nWe invite crawlers to age 47 months for the Baby Super Bowl \nThis event is sponsored by My Gym Children’s Fitness Center\, Jersey City \n\n\nAt My Gym Children’s Fitness Center Jersey City\, 252 9th St\, Jersey City\, NJ 07302\n\n\n\nWe will collect diapers\, baby items\, and mother items for local charities\, such as York Street Projects. \nSo\, all those excited parents\, sign up today. Registration is open\, and this is an indoor event\, so please do not wait until the last minute. \nThe participation fee is $25 for each child. \nPlease note: There will be no refunds or adjustments if you miss the event.
URL:https://jcfamilies.com/event/baby-super-bowl-2026/
LOCATION:NJ
CATEGORIES:JCFamilies
ATTACH;FMTTYPE=image/png:https://jcfamilies.com/wp-content/uploads/2023/10/image0-1.png
END:VEVENT
END:VCALENDAR