BEGIN:VCALENDAR
VERSION:2.0
PRODID:-// - ECPv6.11.2.1//NONSGML v1.0//EN
CALSCALE:GREGORIAN
METHOD:PUBLISH
X-ORIGINAL-URL:https://jcfamilies.com
X-WR-CALDESC:Events for 
REFRESH-INTERVAL;VALUE=DURATION:PT1H
X-Robots-Tag:noindex
X-PUBLISHED-TTL:PT1H
BEGIN:VTIMEZONE
TZID:America/New_York
BEGIN:DAYLIGHT
TZOFFSETFROM:-0500
TZOFFSETTO:-0400
TZNAME:EDT
DTSTART:20260308T070000
END:DAYLIGHT
BEGIN:STANDARD
TZOFFSETFROM:-0400
TZOFFSETTO:-0500
TZNAME:EST
DTSTART:20261101T060000
END:STANDARD
END:VTIMEZONE
BEGIN:VEVENT
DTSTART;TZID=America/New_York:20260425T100000
DTEND;TZID=America/New_York:20260425T130000
DTSTAMP:20260420T194632
CREATED:20180219T210212Z
LAST-MODIFIED:20260317T163010Z
UID:50850-1777111200-1777122000@jcfamilies.com
SUMMARY:Fun Under The Sun in Jersey City (Free Event)
DESCRIPTION:Fun Under the Sun Jersey City: A free outdoor spring event for kids in Jersey City\nWhile parents are busy talking to the representatives of the schools and summer camps\, kids will be entertained by our local performers. So put your sun hats on for a FREE & FUN-TASTIC outdoor event for the whole family! There will be music for kids\, giant bubbles to pop\, some fun arts & crafts\, yoga for kids\, a magic show\, and more! \nALL kids and adults are welcome to join this FREE event! \nEVENT SCHEDULE\n Music for Kids by Carol Lester\nPuppet Show by My Gym Children’s Fitness Center\nDance performance by Impress Ballroom\n Dance Performance by Nimbus Dance School\nMagic Show for kids by Cisco\, The Magician\nGiant Bubble Show\n\nMagic Show by Cisco\, the Magician\nOne of our most popular magicians\, who participates in many events every year\, is hugely entertaining and keeps the attention of kids and parents simultaneously. \n \n\nGiant Bubbles\nThese giant bubbles make everyone happy and put a smile on the little ones’ faces. We can’t wait to see those smiling faces soon. \nBe blown away with our very own Bubble Show for kids! \nPuppet show by My Gym Children’s Fitness Center\nMy Gym Children’s Fitness Center is consistently ranked the #1 children’s program worldwide. And our fabulous\, fun teachers are the main reason behind that. We’re looking for individuals who like to play and work simultaneously! My Gym is an international corporation with over 550 locations in over 30 countries. \n\nONGOING ACTIVITIES\nArts & Crafts by Luna De Papel\nPut your creative hats on with some fun handicrafts! Luna de Papel is a crafting workshop that offers crafting and DIY classes and workshops for adults and children of all ages. It is a place where all can test the bounds of their imagination in an environment they enjoy.
URL:https://jcfamilies.com/event/the-fun-is-coming-with-the-sun-in-jersey-city/
LOCATION:City Hall Plaza\, 280 Grove Street\, Jersey City\, NJ\, AU
CATEGORIES:JCFamilies
ATTACH;FMTTYPE=image/png:https://jcfamilies.com/wp-content/uploads/2018/02/Screenshot-2024-03-05-at-1.16.03-PM.png
ORGANIZER;CN="JCFamilies":MAILTO:admin@jcfamilies.com
END:VEVENT
BEGIN:VEVENT
DTSTART;TZID=America/New_York:20260425T100000
DTEND;TZID=America/New_York:20260425T130000
DTSTAMP:20260420T194632
CREATED:20210412T172543Z
LAST-MODIFIED:20260420T175450Z
UID:75912-1777111200-1777122000@jcfamilies.com
SUMMARY:JCFamilies’ School\, Summer Camp & Daycare Fair 2026
DESCRIPTION:JCFamilies’ School\, Summer Camp & Daycare Fair 2026\nIt’s time to decide on summer camp and summer activities for your child\, and what better way than finding all possible options under one roof? There will be over 60 camps\, schools\, and daycares\, and the Early Childhood Department will be there to answer your questions regarding PreK programs. \nALL kids and adults are welcome to join this FREE event! \nJoin JCFamilies’ School Summer Camp Fair on April 25th\, 2026\, from 10 am to 1 pm at City Hall Plaza\, Jersey City. We will also have an entertainment corner for kids with our Fun Under The Sun\, which includes music\, dance performances\, magic shows\, bubbles\, and more. \nThis is the only fair in Jersey City where you can get information about & also speak to the representatives of several Schools\, Day Cares\, Summer Camps\, & Activity Centers in & around Jersey City & Hoboken. So browse through several camps while the kids are entertained\, and hopefully\, by the end of the 3-hour event\, you will have found the perfect summer camp for your child. \nIt may not seem like it now\, but summer is coming! So it’s never too early to start planning your summer camp plans for the kiddo(s). But first\, find out more about what programs are in one place. We will have over 30 programs attend and be ready to tell you more about what they can offer you. \nDate and time: Saturday\, April 25th\, 2026\, from 10 am to 1 pm\nLocation: City Hall Plaza\nStreet: 280 Grove Street\nCity/Town: Jersey City\, NJ \nBelow is the list of schools\, summer camps\, and activity centers attending the camp fair this year: \nProcel Brazilian Jiu-Jitsu\nMy Gym Children’s Fitness Center\nSmart Start Academy\nThe Brunswick School\nThe Waterfront Schools\nThe French American Academy \nABA Centers of New Jersey\nAdventures in Learning\nAlbrich Academy\nAqua-Tots Swim School\nBoys & Girls Clubs of Hudson County\nBritish Swim School\nCresthill Academy\nCultural Care Au Pair\nCurious Jane Camp\nF45 Jersey City\nFasttrack Languages\nGlobal Soccer Academy\nGrowing Seeds Learning Academy\nHarbor Hills Day Camp\nHeights Orthodontics\nHoboken Dual Language Charter School\nHudson Montessori School\nIvy Primary Prep\nJC Taekwondo Academy\nJeff Lake Camp\nJersey City Dance Academy\nJersey City Public Schools\nJersey City Soccer Association\nKey Element Learning\nKids in the Game\nLearning Ladders\nLuna De Papel\nNew York Life Insurance\nNext Step Broadway\nOpen Door Learning\nParkside Preschool 1 ( Gilliard Group Centers)\nPerforming Arts Workshop\nPremiumOne Realty\nPrimetime Sports\nRobotics and AI Club\, New Jersey\nSnapology\nScience Camp at Liberty Science Center\nSteve and Kate\nStudyCompleteK12\nSuper Base by Basement Sports\nTessa International School\nThe Little Gym of Jersey City\nTrue Dental Care\nWaldo International School\nWonderworkz \nIf you cannot attend our Annual Summer Camp Fair\, please check the camp listing\, where you can find great options according to your child’s requirements. \nOur Summer Camp listing guides parents looking to find great local options. \nUpdated 20 April 2026
URL:https://jcfamilies.com/event/jcfamilies-school-summer-camp-daycare-fair-2/
LOCATION:City Hall Plaza\, 280 Grove Street\, Jersey City\, NJ\, United States
CATEGORIES:JCFamilies
ATTACH;FMTTYPE=image/png:https://jcfamilies.com/wp-content/uploads/2021/04/summer-camp-fair-2026.png
END:VEVENT
END:VCALENDAR