BEGIN:VCALENDAR
VERSION:2.0
PRODID:-// - ECPv6.11.2.1//NONSGML v1.0//EN
CALSCALE:GREGORIAN
METHOD:PUBLISH
X-ORIGINAL-URL:https://jcfamilies.com
X-WR-CALDESC:Events for 
REFRESH-INTERVAL;VALUE=DURATION:PT1H
X-Robots-Tag:noindex
X-PUBLISHED-TTL:PT1H
BEGIN:VTIMEZONE
TZID:America/New_York
BEGIN:DAYLIGHT
TZOFFSETFROM:-0500
TZOFFSETTO:-0400
TZNAME:EDT
DTSTART:20250309T070000
END:DAYLIGHT
BEGIN:STANDARD
TZOFFSETFROM:-0400
TZOFFSETTO:-0500
TZNAME:EST
DTSTART:20251102T060000
END:STANDARD
END:VTIMEZONE
BEGIN:VEVENT
DTSTART;TZID=America/New_York:20251018T100000
DTEND;TZID=America/New_York:20251018T130000
DTSTAMP:20260422T200624
CREATED:20251006T163835Z
LAST-MODIFIED:20251006T163913Z
UID:104588-1760781600-1760792400@jcfamilies.com
SUMMARY:Harvest Festival by Waterfront Montessori
DESCRIPTION:  \nCome and enjoy games\, crafts\, music\, food\, and more as Waterfront Montessori celebrates Fall with the community. You can expect some local vendors at the event.
URL:https://jcfamilies.com/event/harvest-festival-by-waterfront-montessori/
LOCATION:Waterfront Montesoori\, 150 Warren St.\, Suite 108\, Jersey City\, NJ\, United States
CATEGORIES:Others
END:VEVENT
END:VCALENDAR