BEGIN:VCALENDAR
VERSION:2.0
PRODID:-// - ECPv6.11.2.1//NONSGML v1.0//EN
CALSCALE:GREGORIAN
METHOD:PUBLISH
X-ORIGINAL-URL:https://jcfamilies.com
X-WR-CALDESC:Events for 
REFRESH-INTERVAL;VALUE=DURATION:PT1H
X-Robots-Tag:noindex
X-PUBLISHED-TTL:PT1H
BEGIN:VTIMEZONE
TZID:America/New_York
BEGIN:DAYLIGHT
TZOFFSETFROM:-0500
TZOFFSETTO:-0400
TZNAME:EDT
DTSTART:20190310T070000
END:DAYLIGHT
BEGIN:STANDARD
TZOFFSETFROM:-0400
TZOFFSETTO:-0500
TZNAME:EST
DTSTART:20191103T060000
END:STANDARD
END:VTIMEZONE
BEGIN:VEVENT
DTSTART;TZID=America/New_York:20190502T173000
DTEND;TZID=America/New_York:20190502T190000
DTSTAMP:20260421T184538
CREATED:20190401T165610Z
LAST-MODIFIED:20190503T174638Z
UID:62284-1556818200-1556823600@jcfamilies.com
SUMMARY:Workshop for Parents: All you need to know about the High School Admission Process in JC
DESCRIPTION:Workshop for Parents: All you need to know about the High School Admission Process in JC\n\n\n\n\nIf your child is currently in middle school in the JC area\, you might be thinking about the high school admissions process. It is important to be informed and organized as you start this process. To help you get a jumpstart\, TestRocker CEO\, Urvy Keown\, will address the following topics during our next workshop at Zaniac Jersey City: \n●  Overview of the types of High Schools in Jersey City and the surrounding areas \n●  Overview of the application requirements for each type of school \n●  A detailed timeline of the High school admissions process \n●  Explanation of the ISEE\, PSAT 8/9 & COOP admissions tests \n●  Q&A \nThis workshop is FREE\, but RSVP is required. \nPlease fill out this FORM in order to participate. \nEvent details: May 2nd from 5:30 pm – 7 pm at 125 1st St\, Jersey City\, NJ 07302 \nIf you have any questions or suggestions for future workshops\, please submit them to admin@jcfamilies.com. 
URL:https://jcfamilies.com/event/all-you-need-to-know-about-the-high-school-admission-process-in-jc/
LOCATION:Zaniac Jersey City\, 125 1st Street\, Jersey City\, NJ\, 07302\, United States
CATEGORIES:JCFamilies
END:VEVENT
END:VCALENDAR